BEGIN:VCALENDAR
VERSION:2.0
PRODID:-//Yvonne Schreurs - ECPv6.15.13.1//NONSGML v1.0//EN
CALSCALE:GREGORIAN
METHOD:PUBLISH
X-WR-CALNAME:Yvonne Schreurs
X-ORIGINAL-URL:https://www.yvonneschreurs.com
X-WR-CALDESC:Evenementen voor Yvonne Schreurs
REFRESH-INTERVAL;VALUE=DURATION:PT1H
X-Robots-Tag:noindex
X-PUBLISHED-TTL:PT1H
BEGIN:VTIMEZONE
TZID:UTC
BEGIN:STANDARD
TZOFFSETFROM:+0000
TZOFFSETTO:+0000
TZNAME:UTC
DTSTART:20250101T000000
END:STANDARD
END:VTIMEZONE
BEGIN:VEVENT
DTSTART;TZID=UTC:20260411T093000
DTEND;TZID=UTC:20260411T163000
DTSTAMP:20260421T102159
CREATED:20251112T184050Z
LAST-MODIFIED:20251128T154121Z
UID:14293-1775899800-1775925000@www.yvonneschreurs.com
SUMMARY:MBK | PSBK | Vakgericht | Germaanse Geneeskunde
DESCRIPTION:Docent: Rico op het Veld \nInformatie: \nWat als ziekte geen vergissing van het lichaam is\, maar juist een doelgericht\, intelligent biologisch programma? In de Germaanse Geneeskunde\, ontwikkeld door Dr. Ryke Geerd Hamer – internist en natuurkundige – wordt ziekte gezien als de natuurlijke reactie op een onverwachte\, dramatische emotionele shock (DHS – Dirk Hamer Syndroom)\, een gebeurtenis die je op dat moment niet kon voorzien of verwerken. \nVolgens deze benadering is het opsporen en oplossen van het emotionele conflict de sleutel tot genezing. Wil je ontdekken hoe je deze conflicten kunt herkennen én transformeren? Lees dan vooral verder. \nTijdens deze inspirerende cursusdag leer je:\n• De biologische logica achter ziekte – Begrijp waarom klachten ontstaan en hoe ze passen binnen een zinvol herstelproces.\n• De rol van emoties en het brein – Ontdek hoe een emotionele shock tegelijkertijd impact heeft op psyche\, hersenen en orgaan.\n• Meer vertrouwen in het zelf herstellend vermogen – Leer hoe je cliënten begeleidt in het loslaten van angst voor symptomen en het ondersteunen van natuurlijke genezing. \nWil jij een dieper inzicht in het lichaam als intelligent systeem\, en praktische handvatten om deze kennis toe te passen in jouw praktijk? Dan is deze cursusdag een waardevolle aanvulling op jouw therapeutische gereedschapskist. Doe mee en ervaar hoe deze benadering niet alleen jouw kijk op ziekte verandert\, maar ook de manier waarop je jouw cliënten ondersteunt. \nDeze cursus is geregistreed voor MBK/PSBK/Vakgericht-algemeen bij CGO-FONG en KTNO \nAANMELDEN\n 
URL:https://www.yvonneschreurs.com/event/germaanse-geneeskunde-basis/
LOCATION:Pesthuisje\, Sint Elisabethsdreef 1\, Haelen\, Limburg\, 6081 NS\, Netherlands
ATTACH;FMTTYPE=image/png:https://www.yvonneschreurs.com/wp-content/uploads/2025/05/4.png
END:VEVENT
BEGIN:VEVENT
DTSTART;TZID=UTC:20260328T093000
DTEND;TZID=UTC:20260328T163000
DTSTAMP:20260421T102159
CREATED:20251112T184000Z
LAST-MODIFIED:20251123T164834Z
UID:14291-1774690200-1774715400@www.yvonneschreurs.com
SUMMARY:MBK Schildklier en het Immuunsysteem
DESCRIPTION:Docent: Bianca Lanenga – van den Hoek \nInformatie: \nDe schildklier en het immuunsysteem zijn onlosmakelijk met elkaar verbonden. Toch worden ze in de praktijk vaak als twee gescheiden systemen benaderd. Deze scholing laat zien hoe diep deze interactie werkelijk gaat\, van auto-immuunreacties tot mitochondrialestress en nutriëntentekorten die de afweer én de schildklierfunctie beïnvloeden. \nWe verkennen de fysiologische en biochemische mechanismen die verklaren waarom de schildklier zo vaak betrokken is bij immuun problemen\, en omgekeerd waarom immuun disbalans kan leiden tot hypothyreoïdie of Hashimoto’s. \nJe krijgt niet alleen inzicht\, maar ook praktische tools om jouw cliënten effectiever te begeleiden vanuit een orthomoleculaire en integrale visie. \nAANMELDEN\n 
URL:https://www.yvonneschreurs.com/event/schildklier-en-het-immuunsysteem/
LOCATION:Centrum LEEF Horst\, Broekhuizerdijk 27\, Melderslo\, Limburg\, 5962 NL\, Netherlands
ATTACH;FMTTYPE=image/png:https://www.yvonneschreurs.com/wp-content/uploads/2025/01/5.png
END:VEVENT
BEGIN:VEVENT
DTSTART;TZID=UTC:20260307T093000
DTEND;TZID=UTC:20260307T163000
DTSTAMP:20260421T102159
CREATED:20251112T183757Z
LAST-MODIFIED:20260219T144628Z
UID:14287-1772875800-1772901000@www.yvonneschreurs.com
SUMMARY:PSBK Psychosomatische klachten en SOLK/ALK
DESCRIPTION:Docent: Peter Paulissen \nInformatie:   LET OP  door ziekte Bert Schmitz wordt deze lesdag gegeven door Peter Paulissen \nPSBK Psychosomatische klachten en SOLK/ALK \nAANMELDEN NIET MEER MOGELIJK\n 
URL:https://www.yvonneschreurs.com/event/psychosomatische-klachten-en-solk-alk/
LOCATION:Pesthuisje\, Sint Elisabethsdreef 1\, Haelen\, Limburg\, 6081 NS\, Netherlands
ATTACH;FMTTYPE=image/png:https://www.yvonneschreurs.com/wp-content/uploads/2025/11/Rondjes-online-cursussen-Yvonne-8.png
END:VEVENT
BEGIN:VEVENT
DTSTART;TZID=UTC:20260227T093000
DTEND;TZID=UTC:20260227T163000
DTSTAMP:20260421T102159
CREATED:20251112T183513Z
LAST-MODIFIED:20260208T110001Z
UID:14283-1772184600-1772209800@www.yvonneschreurs.com
SUMMARY:MBK | PSBK | Vakgericht - Polyvagaal perspectief\, versterk je therapeutische praktijk
DESCRIPTION:Docent: Jacqueline Elferink \nInformatie: \nDe polyvagaal theorie\, ontwikkeld door de Amerikaanse neurofysioloog Stephen Porges\, beschrijft hoe het autonome zenuwstelsel – vooral de nervus vagus – een grote rol speelt in onze reacties op stress\, veiligheid en sociale interactie. Het is een uitbreiding op de klassieke kijk op het autonome zenuwstelsel\, waarin traditioneel werd gedacht in termen van alleen “vechten/vluchten” (sympathisch) of “rust/herstel” (parasympathisch). \nDeze bijscholing biedt therapeuten een verdiepende verkenning van de polyvagaaltheorie. De deelnemers leren hoe deze theorie inzicht geeft in de werking van het autonome zenuwstelsel en de impact hiervan op emoties\, gedrag en relaties. De theorie zal worden uitgediept en er zal een brug worden gemaakt naar de praktijk. Het toepassen van polyvagaal-theorie in de praktijk draait om het activeren van het “sociale-verbinding”-systeem in je zenuwstelsel\, oftewel het stimuleren van de ventrale vaguszenuw. Dit helpt om meer rust\, veiligheid en verbinding te ervaren. Tijdens de lesdag zullen er ook praktische oefeningen aan bod komen die in de praktijk kunnen worden toegepast. Deze oefeningen kunnen in diverse behandelmethode worden geïntegreerd om de verbinding en veerkracht van cliënten te bevorderen. \nDeze cursusdag is Plato-erkend geregistreerd voor MBK/PSBK/Vakgericht-Algemeen bij CGO-Fong. \nAANMELDEN\n 
URL:https://www.yvonneschreurs.com/event/polyvagaal-perspectief-versterk-je-therapeutische-praktijk/
LOCATION:Centrum LEEF Horst\, Broekhuizerdijk 27\, Melderslo\, Limburg\, 5962 NL\, Netherlands
ATTACH;FMTTYPE=image/png:https://www.yvonneschreurs.com/wp-content/uploads/2025/05/5.png
END:VEVENT
BEGIN:VEVENT
DTSTART;TZID=UTC:20260219T144826
DTEND;TZID=UTC:20260219T144826
DTSTAMP:20260421T102159
CREATED:20251112T183851Z
LAST-MODIFIED:20260219T144826Z
UID:14289-1771512506-1771512506@www.yvonneschreurs.com
SUMMARY:PSBK De mens als sociaal spiegelbeeld\, Invloed\, Identiteit en Zelfreflectie in het Therapeutisch proces
DESCRIPTION:Docent: Peter Paulissen \nInformatie: \nEen verkenning van hoe groepsinvloed\, rolpatronen en sociale structuren het zelfbeeld en de professionele relatie vormgeven. \nHoe vrij zijn we werkelijk in ons denken en handelen? \nDeze masterclass onthult hoe sociale invloeden\, rolpatronen en groepsdynamiek ons zelfbeeld en professioneel functioneren onbewust vormgeven. \nAanmelden helaas niet meer mogelijk\n 
URL:https://www.yvonneschreurs.com/event/psbk-de-mens-als-sociaal-spiegelbeeld-invloed-identiteit-en-zelfreflectie-in-het-therapeutisch-proces/
LOCATION:Pesthuisje\, Sint Elisabethsdreef 1\, Haelen\, Limburg\, 6081 NS\, Netherlands
ATTACH;FMTTYPE=image/png:https://www.yvonneschreurs.com/wp-content/uploads/2025/11/Rondjes-online-cursussen-Yvonne-8.png
END:VEVENT
END:VCALENDAR