BEGIN:VCALENDAR
VERSION:2.0
PRODID:-//Yvonne Schreurs - ECPv6.15.13.1//NONSGML v1.0//EN
CALSCALE:GREGORIAN
METHOD:PUBLISH
X-WR-CALNAME:Yvonne Schreurs
X-ORIGINAL-URL:https://www.yvonneschreurs.com
X-WR-CALDESC:Evenementen voor Yvonne Schreurs
REFRESH-INTERVAL;VALUE=DURATION:PT1H
X-Robots-Tag:noindex
X-PUBLISHED-TTL:PT1H
BEGIN:VTIMEZONE
TZID:UTC
BEGIN:STANDARD
TZOFFSETFROM:+0000
TZOFFSETTO:+0000
TZNAME:UTC
DTSTART:20250101T000000
END:STANDARD
END:VTIMEZONE
BEGIN:VEVENT
DTSTART;TZID=UTC:20260529T093000
DTEND;TZID=UTC:20260529T163000
DTSTAMP:20260421T102332
CREATED:20251112T184131Z
LAST-MODIFIED:20260416T112720Z
UID:14295-1780047000-1780072200@www.yvonneschreurs.com
SUMMARY:MBK | PSBK | Vakgericht - Polyvagaal Perspectief - Verdieping & Gevorderde Toepassing in de Therapeutische Praktijk
DESCRIPTION:Docent: Jacqueline Elferink \nInformatie: \nNa de eerste module Polyvagaal Perspectief – versterk je therapeutische praktijk is het tijd voor een volgende stap. Deze verdiepingsdag is ontwikkeld voor therapeuten die hun begrip van de polyvagaaltheorie willen uitbreiden en verfijnen\, en hun therapeutische vaardigheden verder willen versterken. \nIn deze vervolg module duiken we dieper in de neurofysiologie van het autonome zenuwstelsel. We verkennen hoe de verschillende autonome staten – ventraal vagale regulatie\, sympathische activatie en dorsale vagale terugtrekking – zich manifesteren in gedrag\, emoties\, lichaamstaal en therapeutische processen. \nJe leert hoe je deze states bij cliënten nauwkeuriger kunt herkennen\, welke signalen subtiel verschuiven\, en hoe je vanuit een polyvagaal perspectief passende interventies inzet om veiligheid\, verbinding en veerkracht te vergroten. \nNaast theoretische verdieping besteden we ruime aandacht aan praktische toepassing. We onderzoeken: \n\nHoe autonome staten zich in het moment ontwikkelen en wisselen\nHoe je co-regulatie bewust en effectief vormgeeft\nHoe je de voorwaarden creëert voor meer stabiliteit\, aanwezigheid en herstelvermogen\nHoe je polyvagaal-geïnspireerde interventies integreert binnen jouw bestaande werkwijze\n\nDeze vervolgdag biedt nieuwe inzichten\, nieuwe vaardigheden en een verdere verfijning van je professionele sensitiviteit voor wat er in het zenuwstelsel van jouw cliënten – én in jezelf – gebeurt. \nWil je je verdiepen in het polyvagale raamwerk en jouw therapeutische praktijk verder versterken? Dan ben je van harte welkom bij deze vervolgmodule. \nDeze lesdag is incl. lunch en syllabus \nAANMELDEN\n 
URL:https://www.yvonneschreurs.com/event/vervolg-op-polyvagaal-perspectief/
LOCATION:Centrum LEEF Horst\, Broekhuizerdijk 27\, Melderslo\, Limburg\, 5962 NL\, Netherlands
ATTACH;FMTTYPE=image/png:https://www.yvonneschreurs.com/wp-content/uploads/2025/05/5.png
END:VEVENT
END:VCALENDAR