BEGIN:VCALENDAR
VERSION:2.0
PRODID:-//Yvonne Schreurs - ECPv6.15.13.1//NONSGML v1.0//EN
CALSCALE:GREGORIAN
METHOD:PUBLISH
X-WR-CALNAME:Yvonne Schreurs
X-ORIGINAL-URL:https://www.yvonneschreurs.com
X-WR-CALDESC:Evenementen voor Yvonne Schreurs
REFRESH-INTERVAL;VALUE=DURATION:PT1H
X-Robots-Tag:noindex
X-PUBLISHED-TTL:PT1H
BEGIN:VTIMEZONE
TZID:UTC
BEGIN:STANDARD
TZOFFSETFROM:+0000
TZOFFSETTO:+0000
TZNAME:UTC
DTSTART:20250101T000000
END:STANDARD
END:VTIMEZONE
BEGIN:VEVENT
DTSTART;TZID=UTC:20260912T093000
DTEND;TZID=UTC:20260912T163000
DTSTAMP:20260421T102232
CREATED:20251112T183338Z
LAST-MODIFIED:20260416T113436Z
UID:14281-1789205400-1789230600@www.yvonneschreurs.com
SUMMARY:Van Psychologische Transformatie naar Innerlijke Evolutie | PSBK - Vakgericht - Therapeutische Vorming
DESCRIPTION:Docent: Peter Paulissen \nInformatie: \nIn deze intensieve masterclass ontdek je hoe je vanuit de reguliere psychologie de stap maakt naar een diepere\, innerlijke vorm van transformatie. \nWe verkennen hoe je oude denk- en gedragspatronen kunt doorzien\, en hoe je loskomt van identificatie met het ego. De focus ligt op het ontwikkelen van helderheid\, zelfinzicht en het ervaren van rust voorbij het denken. \nIk neem je mee in het proces van innerlijke transitie – van denken naar ervaren\, van controle naar overgave\, van psychologische conditionering naar bewust gewaar zijn. \nDoor gerichte zelfreflectie en een heldere vertaalslag van psychologische kennis naar innerlijk bewustzijn\, ontstaat ruimte voor echte innerlijke evolutie. Niet als methode\, maar als directe ontdekking van wie je in wezen bent. \nDeze lesdag is incl. lunch en syllabus \nAANMELDEN\n 
URL:https://www.yvonneschreurs.com/event/van-psychologische-transformatie-naar-innerlijke-evolutie/
LOCATION:Pesthuisje\, Sint Elisabethsdreef 1\, Haelen\, Limburg\, 6081 NS\, Netherlands
ATTACH;FMTTYPE=image/png:https://www.yvonneschreurs.com/wp-content/uploads/2025/11/Rondjes-online-cursussen-Yvonne-8.png
END:VEVENT
END:VCALENDAR